BEGIN:VCALENDAR
VERSION:2.0
PRODID:Imitheme.com 
BEGIN:VEVENT
UID:20260419T151334348028661
DTSTAMP;TZID=UTC:20260419T151334
DTSTART;TZID=UTC:20260419T151334
DTEND;TZID=UTC:20260419T151334
SUMMARY:Traditional Kung Fu Tournament (Jack Wong)
LOCATION:
DESCRIPTION:The Traditional Kung Fu Invitational will be held on Saturday November 21\, 2015. Information and registration <a href=\"http\://www3.telus.net/tkftc/events/tournaments/tournament.html\">here.</a>
END:VEVENT
END:VCALENDAR
