BEGIN:VCALENDAR
VERSION:2.0
PRODID:Imitheme.com 
BEGIN:VEVENT
UID:20260419T1524591344584741
DTSTAMP;TZID=UTC:20260419T152459
DTSTART;TZID=UTC:20260419T152459
DTEND;TZID=UTC:20260419T152459
SUMMARY:Confucius Adult Kung Fu
LOCATION:
DESCRIPTION:Adult Kung Fu Confucius Classroom Mondays – 6\:15pm
END:VEVENT
END:VCALENDAR
