BEGIN:VCALENDAR
VERSION:2.0
PRODID:Imitheme.com 
BEGIN:VEVENT
UID:20260419T1508171010583113
DTSTAMP;TZID=UTC:20260419T150817
DTSTART;TZID=UTC:20260419T150817
DTEND;TZID=UTC:20260419T150817
SUMMARY:In-House Tournament
LOCATION:
DESCRIPTION:Please invite family and friends! Admission is free\; donations are welcome at the door. <em>** All instructors and set up crew to arrive by 12\:00 pm. Students to arrive by 12\:45 pm. ***</em>
END:VEVENT
END:VCALENDAR
